BEGIN:VCALENDAR
VERSION:2.0
PRODID:-//HolidayCalendarHub//EN
X-WR-CALNAME:Public Holidays Brazil 2026
X-WR-TIMEZONE:UTC
CALSCALE:GREGORIAN
METHOD:PUBLISH
BEGIN:VEVENT
DTSTART;VALUE=DATE:20260101
DTEND;VALUE=DATE:20260102
SUMMARY:New Year's Day
DESCRIPTION:Ano Novo — primeiro dia do ano
UID:2026-01-01-new-year's-day-br@holidaycalendarhub.com
END:VEVENT
BEGIN:VEVENT
DTSTART;VALUE=DATE:20260303
DTEND;VALUE=DATE:20260304
SUMMARY:Carnival Monday
DESCRIPTION:Segunda-Feira de Carnaval
UID:2026-03-03-carnival-monday-br@holidaycalendarhub.com
END:VEVENT
BEGIN:VEVENT
DTSTART;VALUE=DATE:20260304
DTEND;VALUE=DATE:20260305
SUMMARY:Carnival Tuesday
DESCRIPTION:Terça-Feira de Carnaval
UID:2026-03-04-carnival-tuesday-br@holidaycalendarhub.com
END:VEVENT
BEGIN:VEVENT
DTSTART;VALUE=DATE:20260418
DTEND;VALUE=DATE:20260419
SUMMARY:Good Friday
DESCRIPTION:Sexta-Feira Santa
UID:2026-04-18-good-friday-br@holidaycalendarhub.com
END:VEVENT
BEGIN:VEVENT
DTSTART;VALUE=DATE:20260421
DTEND;VALUE=DATE:20260422
SUMMARY:Tiradentes' Day
DESCRIPTION:Dia de Tiradentes — Brazil's independence hero
UID:2026-04-21-tiradentes'-day-br@holidaycalendarhub.com
END:VEVENT
BEGIN:VEVENT
DTSTART;VALUE=DATE:20260501
DTEND;VALUE=DATE:20260502
SUMMARY:Labour Day
DESCRIPTION:Dia do Trabalho
UID:2026-05-01-labour-day-br@holidaycalendarhub.com
END:VEVENT
BEGIN:VEVENT
DTSTART;VALUE=DATE:20260619
DTEND;VALUE=DATE:20260620
SUMMARY:Corpus Christi
DESCRIPTION:Corpus Christi — Catholic holiday
UID:2026-06-19-corpus-christi-br@holidaycalendarhub.com
END:VEVENT
BEGIN:VEVENT
DTSTART;VALUE=DATE:20260907
DTEND;VALUE=DATE:20260908
SUMMARY:Independence Day
DESCRIPTION:Dia da Independência do Brasil
UID:2026-09-07-independence-day-br@holidaycalendarhub.com
END:VEVENT
BEGIN:VEVENT
DTSTART;VALUE=DATE:20261012
DTEND;VALUE=DATE:20261013
SUMMARY:Our Lady of Aparecida
DESCRIPTION:Nossa Senhora de Aparecida — Brazil's patron saint
UID:2026-10-12-our-lady-of-aparecida-br@holidaycalendarhub.com
END:VEVENT
BEGIN:VEVENT
DTSTART;VALUE=DATE:20261102
DTEND;VALUE=DATE:20261103
SUMMARY:All Souls' Day
DESCRIPTION:Finados — Day of the Dead
UID:2026-11-02-all-souls'-day-br@holidaycalendarhub.com
END:VEVENT
BEGIN:VEVENT
DTSTART;VALUE=DATE:20261115
DTEND;VALUE=DATE:20261116
SUMMARY:Proclamation of the Republic
DESCRIPTION:Proclamação da República do Brasil
UID:2026-11-15-proclamation-of-the-republic-br@holidaycalendarhub.com
END:VEVENT
BEGIN:VEVENT
DTSTART;VALUE=DATE:20261225
DTEND;VALUE=DATE:20261226
SUMMARY:Christmas Day
DESCRIPTION:Natal — celebra o nascimento de Jesus Cristo
UID:2026-12-25-christmas-day-br@holidaycalendarhub.com
END:VEVENT
END:VCALENDAR