BEGIN:VCALENDAR
VERSION:2.0
PRODID:-//HolidayCalendarHub//EN
X-WR-CALNAME:Public Holidays China 2026
X-WR-TIMEZONE:UTC
CALSCALE:GREGORIAN
METHOD:PUBLISH
BEGIN:VEVENT
DTSTART;VALUE=DATE:20260101
DTEND;VALUE=DATE:20260102
SUMMARY:New Year's Day
DESCRIPTION:元旦 — first day of the year
UID:2026-01-01-new-year's-day-cn@holidaycalendarhub.com
END:VEVENT
BEGIN:VEVENT
DTSTART;VALUE=DATE:20260129
DTEND;VALUE=DATE:20260130
SUMMARY:Chinese New Year
DESCRIPTION:春节 — Spring Festival, Year of the Snake
UID:2026-01-29-chinese-new-year-cn@holidaycalendarhub.com
END:VEVENT
BEGIN:VEVENT
DTSTART;VALUE=DATE:20260130
DTEND;VALUE=DATE:20260131
SUMMARY:Chinese New Year Holiday
DESCRIPTION:春节假期 — Spring Festival holiday
UID:2026-01-30-chinese-new-year-holiday-cn@holidaycalendarhub.com
END:VEVENT
BEGIN:VEVENT
DTSTART;VALUE=DATE:20260131
DTEND;VALUE=DATE:20260201
SUMMARY:Chinese New Year Holiday
DESCRIPTION:春节假期 — Spring Festival holiday
UID:2026-01-31-chinese-new-year-holiday-cn@holidaycalendarhub.com
END:VEVENT
BEGIN:VEVENT
DTSTART;VALUE=DATE:20260201
DTEND;VALUE=DATE:20260202
SUMMARY:Chinese New Year Holiday
DESCRIPTION:春节假期 — Spring Festival holiday
UID:2026-02-01-chinese-new-year-holiday-cn@holidaycalendarhub.com
END:VEVENT
BEGIN:VEVENT
DTSTART;VALUE=DATE:20260404
DTEND;VALUE=DATE:20260405
SUMMARY:Qingming Festival
DESCRIPTION:清明节 — Tomb Sweeping Day
UID:2026-04-04-qingming-festival-cn@holidaycalendarhub.com
END:VEVENT
BEGIN:VEVENT
DTSTART;VALUE=DATE:20260501
DTEND;VALUE=DATE:20260502
SUMMARY:Labour Day
DESCRIPTION:劳动节 — International Workers Day
UID:2026-05-01-labour-day-cn@holidaycalendarhub.com
END:VEVENT
BEGIN:VEVENT
DTSTART;VALUE=DATE:20260602
DTEND;VALUE=DATE:20260603
SUMMARY:Dragon Boat Festival
DESCRIPTION:端午节 — Duanwu Festival
UID:2026-06-02-dragon-boat-festival-cn@holidaycalendarhub.com
END:VEVENT
BEGIN:VEVENT
DTSTART;VALUE=DATE:20261001
DTEND;VALUE=DATE:20261002
SUMMARY:National Day
DESCRIPTION:国庆节 — People's Republic of China founding
UID:2026-10-01-national-day-cn@holidaycalendarhub.com
END:VEVENT
BEGIN:VEVENT
DTSTART;VALUE=DATE:20261006
DTEND;VALUE=DATE:20261007
SUMMARY:Mid-Autumn Festival
DESCRIPTION:中秋节 — Moon Festival
UID:2026-10-06-mid-autumn-festival-cn@holidaycalendarhub.com
END:VEVENT
END:VCALENDAR