BEGIN:VCALENDAR
VERSION:2.0
PRODID:-//HolidayCalendarHub//EN
X-WR-CALNAME:Public Holidays United Kingdom 2026
X-WR-TIMEZONE:UTC
CALSCALE:GREGORIAN
METHOD:PUBLISH
BEGIN:VEVENT
DTSTART;VALUE=DATE:20260101
DTEND;VALUE=DATE:20260102
SUMMARY:New Year's Day
DESCRIPTION:First day of the year
UID:2026-01-01-new-year's-day-gb@holidaycalendarhub.com
END:VEVENT
BEGIN:VEVENT
DTSTART;VALUE=DATE:20260102
DTEND;VALUE=DATE:20260103
SUMMARY:New Year's Day (Scotland)
DESCRIPTION:Additional New Year holiday in Scotland
UID:2026-01-02-new-year's-day-(scotland)-gb@holidaycalendarhub.com
END:VEVENT
BEGIN:VEVENT
DTSTART;VALUE=DATE:20260418
DTEND;VALUE=DATE:20260419
SUMMARY:Good Friday
DESCRIPTION:Commemorates the crucifixion of Jesus Christ
UID:2026-04-18-good-friday-gb@holidaycalendarhub.com
END:VEVENT
BEGIN:VEVENT
DTSTART;VALUE=DATE:20260421
DTEND;VALUE=DATE:20260422
SUMMARY:Easter Monday
DESCRIPTION:The day after Easter Sunday
UID:2026-04-21-easter-monday-gb@holidaycalendarhub.com
END:VEVENT
BEGIN:VEVENT
DTSTART;VALUE=DATE:20260505
DTEND;VALUE=DATE:20260506
SUMMARY:Early May Bank Holiday
DESCRIPTION:First Monday of May bank holiday
UID:2026-05-05-early-may-bank-holiday-gb@holidaycalendarhub.com
END:VEVENT
BEGIN:VEVENT
DTSTART;VALUE=DATE:20260526
DTEND;VALUE=DATE:20260527
SUMMARY:Spring Bank Holiday
DESCRIPTION:Last Monday of May bank holiday
UID:2026-05-26-spring-bank-holiday-gb@holidaycalendarhub.com
END:VEVENT
BEGIN:VEVENT
DTSTART;VALUE=DATE:20260825
DTEND;VALUE=DATE:20260826
SUMMARY:Summer Bank Holiday
DESCRIPTION:Last Monday of August bank holiday
UID:2026-08-25-summer-bank-holiday-gb@holidaycalendarhub.com
END:VEVENT
BEGIN:VEVENT
DTSTART;VALUE=DATE:20261225
DTEND;VALUE=DATE:20261226
SUMMARY:Christmas Day
DESCRIPTION:Celebrates the birth of Jesus Christ
UID:2026-12-25-christmas-day-gb@holidaycalendarhub.com
END:VEVENT
BEGIN:VEVENT
DTSTART;VALUE=DATE:20261226
DTEND;VALUE=DATE:20261227
SUMMARY:Boxing Day
DESCRIPTION:Day after Christmas
UID:2026-12-26-boxing-day-gb@holidaycalendarhub.com
END:VEVENT
END:VCALENDAR