BEGIN:VCALENDAR
VERSION:2.0
PRODID:-//HolidayCalendarHub//EN
X-WR-CALNAME:Public Holidays Japan 2026
X-WR-TIMEZONE:UTC
CALSCALE:GREGORIAN
METHOD:PUBLISH
BEGIN:VEVENT
DTSTART;VALUE=DATE:20260101
DTEND;VALUE=DATE:20260102
SUMMARY:New Year's Day
DESCRIPTION:Shōgatsu — New Year celebration
UID:2026-01-01-new-year's-day-jp@holidaycalendarhub.com
END:VEVENT
BEGIN:VEVENT
DTSTART;VALUE=DATE:20260113
DTEND;VALUE=DATE:20260114
SUMMARY:Coming of Age Day
DESCRIPTION:Seijin no Hi — celebrates those who turned 20
UID:2026-01-13-coming-of-age-day-jp@holidaycalendarhub.com
END:VEVENT
BEGIN:VEVENT
DTSTART;VALUE=DATE:20260211
DTEND;VALUE=DATE:20260212
SUMMARY:National Foundation Day
DESCRIPTION:Kenkoku Kinen no Hi — founding of Japan
UID:2026-02-11-national-foundation-day-jp@holidaycalendarhub.com
END:VEVENT
BEGIN:VEVENT
DTSTART;VALUE=DATE:20260223
DTEND;VALUE=DATE:20260224
SUMMARY:Emperor's Birthday
DESCRIPTION:Tennō Tanjōbi — birthday of Emperor Naruhito
UID:2026-02-23-emperor's-birthday-jp@holidaycalendarhub.com
END:VEVENT
BEGIN:VEVENT
DTSTART;VALUE=DATE:20260320
DTEND;VALUE=DATE:20260321
SUMMARY:Vernal Equinox Day
DESCRIPTION:Shunbun no Hi — first day of spring
UID:2026-03-20-vernal-equinox-day-jp@holidaycalendarhub.com
END:VEVENT
BEGIN:VEVENT
DTSTART;VALUE=DATE:20260429
DTEND;VALUE=DATE:20260430
SUMMARY:Showa Day
DESCRIPTION:Shōwa no Hi — birthday of Emperor Shōwa
UID:2026-04-29-showa-day-jp@holidaycalendarhub.com
END:VEVENT
BEGIN:VEVENT
DTSTART;VALUE=DATE:20260503
DTEND;VALUE=DATE:20260504
SUMMARY:Constitution Memorial Day
DESCRIPTION:Kenpō Kinenbi — Japanese Constitution anniversary
UID:2026-05-03-constitution-memorial-day-jp@holidaycalendarhub.com
END:VEVENT
BEGIN:VEVENT
DTSTART;VALUE=DATE:20260504
DTEND;VALUE=DATE:20260505
SUMMARY:Greenery Day
DESCRIPTION:Midori no Hi — nature appreciation day
UID:2026-05-04-greenery-day-jp@holidaycalendarhub.com
END:VEVENT
BEGIN:VEVENT
DTSTART;VALUE=DATE:20260505
DTEND;VALUE=DATE:20260506
SUMMARY:Children's Day
DESCRIPTION:Kodomo no Hi — celebrates children's happiness
UID:2026-05-05-children's-day-jp@holidaycalendarhub.com
END:VEVENT
BEGIN:VEVENT
DTSTART;VALUE=DATE:20260721
DTEND;VALUE=DATE:20260722
SUMMARY:Marine Day
DESCRIPTION:Umi no Hi — expresses gratitude to the ocean
UID:2026-07-21-marine-day-jp@holidaycalendarhub.com
END:VEVENT
BEGIN:VEVENT
DTSTART;VALUE=DATE:20260811
DTEND;VALUE=DATE:20260812
SUMMARY:Mountain Day
DESCRIPTION:Yama no Hi — appreciates mountains
UID:2026-08-11-mountain-day-jp@holidaycalendarhub.com
END:VEVENT
BEGIN:VEVENT
DTSTART;VALUE=DATE:20260915
DTEND;VALUE=DATE:20260916
SUMMARY:Respect for the Aged Day
DESCRIPTION:Keirō no Hi — honors elderly
UID:2026-09-15-respect-for-the-aged-day-jp@holidaycalendarhub.com
END:VEVENT
BEGIN:VEVENT
DTSTART;VALUE=DATE:20260923
DTEND;VALUE=DATE:20260924
SUMMARY:Autumnal Equinox Day
DESCRIPTION:Shūbun no Hi — first day of autumn
UID:2026-09-23-autumnal-equinox-day-jp@holidaycalendarhub.com
END:VEVENT
BEGIN:VEVENT
DTSTART;VALUE=DATE:20261013
DTEND;VALUE=DATE:20261014
SUMMARY:Sports Day
DESCRIPTION:Taiiku no Hi — promotes sports and healthy life
UID:2026-10-13-sports-day-jp@holidaycalendarhub.com
END:VEVENT
BEGIN:VEVENT
DTSTART;VALUE=DATE:20261103
DTEND;VALUE=DATE:20261104
SUMMARY:Culture Day
DESCRIPTION:Bunka no Hi — celebrates arts and culture
UID:2026-11-03-culture-day-jp@holidaycalendarhub.com
END:VEVENT
BEGIN:VEVENT
DTSTART;VALUE=DATE:20261123
DTEND;VALUE=DATE:20261124
SUMMARY:Labour Thanksgiving Day
DESCRIPTION:Kinrō Kansha no Hi — honors working people
UID:2026-11-23-labour-thanksgiving-day-jp@holidaycalendarhub.com
END:VEVENT
END:VCALENDAR