BEGIN:VCALENDAR
VERSION:2.0
PRODID:-//HolidayCalendarHub//EN
X-WR-CALNAME:Public Holidays South Korea 2026
X-WR-TIMEZONE:UTC
CALSCALE:GREGORIAN
METHOD:PUBLISH
BEGIN:VEVENT
DTSTART;VALUE=DATE:20260101
DTEND;VALUE=DATE:20260102
SUMMARY:New Year's Day
DESCRIPTION:Sinjeong — first day of the year
UID:2026-01-01-new-year's-day-kr@holidaycalendarhub.com
END:VEVENT
BEGIN:VEVENT
DTSTART;VALUE=DATE:20260128
DTEND;VALUE=DATE:20260129
SUMMARY:Lunar New Year's Eve
DESCRIPTION:Seollal Eve — day before lunar new year
UID:2026-01-28-lunar-new-year's-eve-kr@holidaycalendarhub.com
END:VEVENT
BEGIN:VEVENT
DTSTART;VALUE=DATE:20260129
DTEND;VALUE=DATE:20260130
SUMMARY:Lunar New Year
DESCRIPTION:Seollal — Korean New Year
UID:2026-01-29-lunar-new-year-kr@holidaycalendarhub.com
END:VEVENT
BEGIN:VEVENT
DTSTART;VALUE=DATE:20260130
DTEND;VALUE=DATE:20260131
SUMMARY:Lunar New Year Holiday
DESCRIPTION:Seollal — day after lunar new year
UID:2026-01-30-lunar-new-year-holiday-kr@holidaycalendarhub.com
END:VEVENT
BEGIN:VEVENT
DTSTART;VALUE=DATE:20260301
DTEND;VALUE=DATE:20260302
SUMMARY:Independence Movement Day
DESCRIPTION:Samil jeol — 1919 independence movement
UID:2026-03-01-independence-movement-day-kr@holidaycalendarhub.com
END:VEVENT
BEGIN:VEVENT
DTSTART;VALUE=DATE:20260505
DTEND;VALUE=DATE:20260506
SUMMARY:Children's Day
DESCRIPTION:Eorininal — dedicated to children
UID:2026-05-05-children's-day-kr@holidaycalendarhub.com
END:VEVENT
BEGIN:VEVENT
DTSTART;VALUE=DATE:20260606
DTEND;VALUE=DATE:20260607
SUMMARY:Memorial Day
DESCRIPTION:Hyeonchung il — honors war veterans
UID:2026-06-06-memorial-day-kr@holidaycalendarhub.com
END:VEVENT
BEGIN:VEVENT
DTSTART;VALUE=DATE:20260815
DTEND;VALUE=DATE:20260816
SUMMARY:Liberation Day
DESCRIPTION:Gwangbokjeol — celebrates independence from Japan
UID:2026-08-15-liberation-day-kr@holidaycalendarhub.com
END:VEVENT
BEGIN:VEVENT
DTSTART;VALUE=DATE:20261003
DTEND;VALUE=DATE:20261004
SUMMARY:National Foundation Day
DESCRIPTION:Gaecheonjeol — mythical founding of Korea
UID:2026-10-03-national-foundation-day-kr@holidaycalendarhub.com
END:VEVENT
BEGIN:VEVENT
DTSTART;VALUE=DATE:20261009
DTEND;VALUE=DATE:20261010
SUMMARY:Hangul Day
DESCRIPTION:Hangeullal — celebrates Korean alphabet
UID:2026-10-09-hangul-day-kr@holidaycalendarhub.com
END:VEVENT
BEGIN:VEVENT
DTSTART;VALUE=DATE:20261225
DTEND;VALUE=DATE:20261226
SUMMARY:Christmas Day
DESCRIPTION:Celebrates the birth of Jesus Christ
UID:2026-12-25-christmas-day-kr@holidaycalendarhub.com
END:VEVENT
END:VCALENDAR