BEGIN:VCALENDAR
VERSION:2.0
PRODID:-//HolidayCalendarHub//EN
X-WR-CALNAME:Public Holidays Mexico 2026
X-WR-TIMEZONE:UTC
CALSCALE:GREGORIAN
METHOD:PUBLISH
BEGIN:VEVENT
DTSTART;VALUE=DATE:20260101
DTEND;VALUE=DATE:20260102
SUMMARY:New Year's Day
DESCRIPTION:Año Nuevo
UID:2026-01-01-new-year's-day-mx@holidaycalendarhub.com
END:VEVENT
BEGIN:VEVENT
DTSTART;VALUE=DATE:20260203
DTEND;VALUE=DATE:20260204
SUMMARY:Constitution Day
DESCRIPTION:Día de la Constitución
UID:2026-02-03-constitution-day-mx@holidaycalendarhub.com
END:VEVENT
BEGIN:VEVENT
DTSTART;VALUE=DATE:20260317
DTEND;VALUE=DATE:20260318
SUMMARY:Benito Juárez Day
DESCRIPTION:Natalicio de Benito Juárez
UID:2026-03-17-benito-juárez-day-mx@holidaycalendarhub.com
END:VEVENT
BEGIN:VEVENT
DTSTART;VALUE=DATE:20260417
DTEND;VALUE=DATE:20260418
SUMMARY:Maundy Thursday
DESCRIPTION:Jueves Santo — Holy Thursday
UID:2026-04-17-maundy-thursday-mx@holidaycalendarhub.com
END:VEVENT
BEGIN:VEVENT
DTSTART;VALUE=DATE:20260418
DTEND;VALUE=DATE:20260419
SUMMARY:Good Friday
DESCRIPTION:Viernes Santo
UID:2026-04-18-good-friday-mx@holidaycalendarhub.com
END:VEVENT
BEGIN:VEVENT
DTSTART;VALUE=DATE:20260501
DTEND;VALUE=DATE:20260502
SUMMARY:Labour Day
DESCRIPTION:Día del Trabajo
UID:2026-05-01-labour-day-mx@holidaycalendarhub.com
END:VEVENT
BEGIN:VEVENT
DTSTART;VALUE=DATE:20260916
DTEND;VALUE=DATE:20260917
SUMMARY:Independence Day
DESCRIPTION:Día de la Independencia — Mexican independence
UID:2026-09-16-independence-day-mx@holidaycalendarhub.com
END:VEVENT
BEGIN:VEVENT
DTSTART;VALUE=DATE:20261117
DTEND;VALUE=DATE:20261118
SUMMARY:Revolution Day
DESCRIPTION:Día de la Revolución — Mexican Revolution
UID:2026-11-17-revolution-day-mx@holidaycalendarhub.com
END:VEVENT
BEGIN:VEVENT
DTSTART;VALUE=DATE:20261212
DTEND;VALUE=DATE:20261213
SUMMARY:Our Lady of Guadalupe
DESCRIPTION:Día de la Virgen de Guadalupe
UID:2026-12-12-our-lady-of-guadalupe-mx@holidaycalendarhub.com
END:VEVENT
BEGIN:VEVENT
DTSTART;VALUE=DATE:20261225
DTEND;VALUE=DATE:20261226
SUMMARY:Christmas Day
DESCRIPTION:Navidad
UID:2026-12-25-christmas-day-mx@holidaycalendarhub.com
END:VEVENT
END:VCALENDAR