BEGIN:VCALENDAR
VERSION:2.0
PRODID:-//HolidayCalendarHub//EN
X-WR-CALNAME:Public Holidays Sweden 2026
X-WR-TIMEZONE:UTC
CALSCALE:GREGORIAN
METHOD:PUBLISH
BEGIN:VEVENT
DTSTART;VALUE=DATE:20260101
DTEND;VALUE=DATE:20260102
SUMMARY:New Year's Day
DESCRIPTION:Nyårsdagen
UID:2026-01-01-new-year's-day-se@holidaycalendarhub.com
END:VEVENT
BEGIN:VEVENT
DTSTART;VALUE=DATE:20260106
DTEND;VALUE=DATE:20260107
SUMMARY:Epiphany
DESCRIPTION:Trettondedag jul — Three Kings Day
UID:2026-01-06-epiphany-se@holidaycalendarhub.com
END:VEVENT
BEGIN:VEVENT
DTSTART;VALUE=DATE:20260418
DTEND;VALUE=DATE:20260419
SUMMARY:Good Friday
DESCRIPTION:Långfredagen
UID:2026-04-18-good-friday-se@holidaycalendarhub.com
END:VEVENT
BEGIN:VEVENT
DTSTART;VALUE=DATE:20260419
DTEND;VALUE=DATE:20260420
SUMMARY:Holy Saturday
DESCRIPTION:Påskafton
UID:2026-04-19-holy-saturday-se@holidaycalendarhub.com
END:VEVENT
BEGIN:VEVENT
DTSTART;VALUE=DATE:20260420
DTEND;VALUE=DATE:20260421
SUMMARY:Easter Sunday
DESCRIPTION:Påskdagen
UID:2026-04-20-easter-sunday-se@holidaycalendarhub.com
END:VEVENT
BEGIN:VEVENT
DTSTART;VALUE=DATE:20260421
DTEND;VALUE=DATE:20260422
SUMMARY:Easter Monday
DESCRIPTION:Annandag påsk
UID:2026-04-21-easter-monday-se@holidaycalendarhub.com
END:VEVENT
BEGIN:VEVENT
DTSTART;VALUE=DATE:20260501
DTEND;VALUE=DATE:20260502
SUMMARY:Labour Day
DESCRIPTION:Första maj
UID:2026-05-01-labour-day-se@holidaycalendarhub.com
END:VEVENT
BEGIN:VEVENT
DTSTART;VALUE=DATE:20260529
DTEND;VALUE=DATE:20260530
SUMMARY:Ascension Day
DESCRIPTION:Kristi himmelsfärdsdag
UID:2026-05-29-ascension-day-se@holidaycalendarhub.com
END:VEVENT
BEGIN:VEVENT
DTSTART;VALUE=DATE:20260606
DTEND;VALUE=DATE:20260607
SUMMARY:National Day of Sweden
DESCRIPTION:Sveriges nationaldag
UID:2026-06-06-national-day-of-sweden-se@holidaycalendarhub.com
END:VEVENT
BEGIN:VEVENT
DTSTART;VALUE=DATE:20260620
DTEND;VALUE=DATE:20260621
SUMMARY:Midsummer Day
DESCRIPTION:Midsommar — Swedish summer solstice celebration
UID:2026-06-20-midsummer-day-se@holidaycalendarhub.com
END:VEVENT
BEGIN:VEVENT
DTSTART;VALUE=DATE:20261101
DTEND;VALUE=DATE:20261102
SUMMARY:All Saints' Day
DESCRIPTION:Alla helgons dag
UID:2026-11-01-all-saints'-day-se@holidaycalendarhub.com
END:VEVENT
BEGIN:VEVENT
DTSTART;VALUE=DATE:20261225
DTEND;VALUE=DATE:20261226
SUMMARY:Christmas Day
DESCRIPTION:Juldagen
UID:2026-12-25-christmas-day-se@holidaycalendarhub.com
END:VEVENT
BEGIN:VEVENT
DTSTART;VALUE=DATE:20261226
DTEND;VALUE=DATE:20261227
SUMMARY:Second Day of Christmas
DESCRIPTION:Annandag jul
UID:2026-12-26-second-day-of-christmas-se@holidaycalendarhub.com
END:VEVENT
END:VCALENDAR