BEGIN:VCALENDAR
VERSION:2.0
PRODID:-//HolidayCalendarHub//EN
X-WR-CALNAME:Public Holidays United States 2026
X-WR-TIMEZONE:UTC
CALSCALE:GREGORIAN
METHOD:PUBLISH
BEGIN:VEVENT
DTSTART;VALUE=DATE:20260101
DTEND;VALUE=DATE:20260102
SUMMARY:New Year's Day
DESCRIPTION:First day of the Gregorian calendar year
UID:2026-01-01-new-year's-day-us@holidaycalendarhub.com
END:VEVENT
BEGIN:VEVENT
DTSTART;VALUE=DATE:20260120
DTEND;VALUE=DATE:20260121
SUMMARY:Martin Luther King Jr. Day
DESCRIPTION:Celebrates the life of civil rights leader Dr. Martin Luther King Jr.
UID:2026-01-20-martin-luther-king-jr.-day-us@holidaycalendarhub.com
END:VEVENT
BEGIN:VEVENT
DTSTART;VALUE=DATE:20260217
DTEND;VALUE=DATE:20260218
SUMMARY:Presidents' Day
DESCRIPTION:Honors all U.S. presidents, including Washington and Lincoln
UID:2026-02-17-presidents'-day-us@holidaycalendarhub.com
END:VEVENT
BEGIN:VEVENT
DTSTART;VALUE=DATE:20260526
DTEND;VALUE=DATE:20260527
SUMMARY:Memorial Day
DESCRIPTION:Honors military personnel who have died in service
UID:2026-05-26-memorial-day-us@holidaycalendarhub.com
END:VEVENT
BEGIN:VEVENT
DTSTART;VALUE=DATE:20260619
DTEND;VALUE=DATE:20260620
SUMMARY:Juneteenth
DESCRIPTION:Commemorates the emancipation of enslaved African Americans
UID:2026-06-19-juneteenth-us@holidaycalendarhub.com
END:VEVENT
BEGIN:VEVENT
DTSTART;VALUE=DATE:20260704
DTEND;VALUE=DATE:20260705
SUMMARY:Independence Day
DESCRIPTION:Celebrates the Declaration of Independence
UID:2026-07-04-independence-day-us@holidaycalendarhub.com
END:VEVENT
BEGIN:VEVENT
DTSTART;VALUE=DATE:20260901
DTEND;VALUE=DATE:20260902
SUMMARY:Labor Day
DESCRIPTION:Celebrates the social and economic achievements of workers
UID:2026-09-01-labor-day-us@holidaycalendarhub.com
END:VEVENT
BEGIN:VEVENT
DTSTART;VALUE=DATE:20261013
DTEND;VALUE=DATE:20261014
SUMMARY:Columbus Day
DESCRIPTION:Commemorates Christopher Columbus's arrival in the Americas
UID:2026-10-13-columbus-day-us@holidaycalendarhub.com
END:VEVENT
BEGIN:VEVENT
DTSTART;VALUE=DATE:20261111
DTEND;VALUE=DATE:20261112
SUMMARY:Veterans Day
DESCRIPTION:Honors military veterans
UID:2026-11-11-veterans-day-us@holidaycalendarhub.com
END:VEVENT
BEGIN:VEVENT
DTSTART;VALUE=DATE:20261127
DTEND;VALUE=DATE:20261128
SUMMARY:Thanksgiving Day
DESCRIPTION:Day of giving thanks for the blessings of the harvest
UID:2026-11-27-thanksgiving-day-us@holidaycalendarhub.com
END:VEVENT
BEGIN:VEVENT
DTSTART;VALUE=DATE:20261225
DTEND;VALUE=DATE:20261226
SUMMARY:Christmas Day
DESCRIPTION:Celebrates the birth of Jesus Christ
UID:2026-12-25-christmas-day-us@holidaycalendarhub.com
END:VEVENT
END:VCALENDAR